BEGIN:VCALENDAR
VERSION:2.0
PRODID:-//Tarot by Cecelia - ECPv6.15.20//NONSGML v1.0//EN
CALSCALE:GREGORIAN
METHOD:PUBLISH
X-ORIGINAL-URL:https://tarotbycecelia.com
X-WR-CALDESC:Events for Tarot by Cecelia
REFRESH-INTERVAL;VALUE=DURATION:PT1H
X-Robots-Tag:noindex
X-PUBLISHED-TTL:PT1H
BEGIN:VTIMEZONE
TZID:America/New_York
BEGIN:DAYLIGHT
TZOFFSETFROM:-0500
TZOFFSETTO:-0400
TZNAME:EDT
DTSTART:20250309T070000
END:DAYLIGHT
BEGIN:STANDARD
TZOFFSETFROM:-0400
TZOFFSETTO:-0500
TZNAME:EST
DTSTART:20251102T060000
END:STANDARD
BEGIN:DAYLIGHT
TZOFFSETFROM:-0500
TZOFFSETTO:-0400
TZNAME:EDT
DTSTART:20260308T070000
END:DAYLIGHT
BEGIN:STANDARD
TZOFFSETFROM:-0400
TZOFFSETTO:-0500
TZNAME:EST
DTSTART:20261101T060000
END:STANDARD
BEGIN:DAYLIGHT
TZOFFSETFROM:-0500
TZOFFSETTO:-0400
TZNAME:EDT
DTSTART:20270314T070000
END:DAYLIGHT
BEGIN:STANDARD
TZOFFSETFROM:-0400
TZOFFSETTO:-0500
TZNAME:EST
DTSTART:20271107T060000
END:STANDARD
BEGIN:DAYLIGHT
TZOFFSETFROM:-0500
TZOFFSETTO:-0400
TZNAME:EDT
DTSTART:20280312T070000
END:DAYLIGHT
BEGIN:STANDARD
TZOFFSETFROM:-0400
TZOFFSETTO:-0500
TZNAME:EST
DTSTART:20281105T060000
END:STANDARD
END:VTIMEZONE
BEGIN:VEVENT
DTSTART;TZID=America/New_York:20261130T000500
DTEND;TZID=America/New_York:20261130T000500
DTSTAMP:20260422T102617
CREATED:20251013T170645Z
LAST-MODIFIED:20251013T170645Z
UID:78738-1795997100-1795997100@tarotbycecelia.com
SUMMARY:Sun trine Saturn
DESCRIPTION:If you have been putting in the work whenever Saturn challenges you to learn a lesson\, then it could very well be time to reap the rewards. Not all Saturn transits are gloomy and depressing\, or stressful even\, and this one could be most enjoyable. The Sun tends to put you in the spotlight\, showing you favor\, and your goals may finally feel as if they are attainable. This is definitely a reap what you sow type of transit\, and you are poised to gain marvelous things\, if you have truly been putting forth the effort. Hopefully this makes all of the hardships you have endured worthwhile\, so as to never repeat them again in this lifetime. You have much to teach others which you have learned through your experiences. \nAdditional Dates for Sun trine Saturn: \nAugust 21\, 2027 \nDecember 13\, 2027 \n \nShare this:Tweet\n				Email a link to a friend (Opens in new window)\n				Email\n			\n				Share on Reddit (Opens in new window)\n				Reddit\n			\n				Print (Opens in new window)\n				Print\n			Share on TumblrMoreLike this:Like Loading...
URL:https://tarotbycecelia.com/event/sun-trine-saturn-13/
CATEGORIES:Aries,Astrology,Planetary Transits,Sagittarius,Saturn,Sun,Trine
END:VEVENT
BEGIN:VEVENT
DTSTART;TZID=America/New_York:20261229T172700
DTEND;TZID=America/New_York:20261229T172700
DTSTAMP:20260422T102617
CREATED:20251020T152824Z
LAST-MODIFIED:20251020T152824Z
UID:79061-1798565220-1798565220@tarotbycecelia.com
SUMMARY:Sun square Saturn
DESCRIPTION:Even though you are probably already aware of them\, looming deadlines could really be stressing you out. Responsibilities can seem to be more than overwhelming\, perhaps even insurmountable. Saturn does love to challenge you\, and the only way around this is straight through the middle\, facing head-on whatever it is which you know needs to be done. Rising to the challenge is not an easy task\, but once the task is achieved\, Saturn will eventually reward you for a job well done. \nAdditional Dates for Sun square Saturn: \nDecember 29\, 2026 \nJuly 20\, 2027 \n \nShare this:Tweet\n				Email a link to a friend (Opens in new window)\n				Email\n			\n				Share on Reddit (Opens in new window)\n				Reddit\n			\n				Print (Opens in new window)\n				Print\n			Share on TumblrMoreLike this:Like Loading...
URL:https://tarotbycecelia.com/event/sun-square-saturn-13/
CATEGORIES:Aries,Astrology,Capricorn,Planetary Transits,Saturn,Square,Sun
END:VEVENT
BEGIN:VEVENT
DTSTART;TZID=America/New_York:20270829T070000
DTEND;TZID=America/New_York:20270829T160000
DTSTAMP:20260422T102617
CREATED:20230702T230842Z
LAST-MODIFIED:20230702T230842Z
UID:64526-1819522800-1819555200@tarotbycecelia.com
SUMMARY:Mars oppose Saturn
DESCRIPTION:This is a difficult transit\, quite possibly due to extreme frustration with situations which are standing in your way\, and blocking your progress. You could feel anger\, and others might be less than kind. Karmic events are at play here\, and how you handle yourself in such matters could ultimately determine outcomes. You could feel others are undermining your efforts and working against you in some way or another. Let this pass\, and find an outlet to vent the energy. \nAdditional Dates for Mars oppose Saturn: \nSeptember 15\, 2029 \n \nShare this:Tweet\n				Email a link to a friend (Opens in new window)\n				Email\n			\n				Share on Reddit (Opens in new window)\n				Reddit\n			\n				Print (Opens in new window)\n				Print\n			Share on TumblrMoreLike this:Like Loading...
URL:https://tarotbycecelia.com/event/mars-oppose-saturn-3/
CATEGORIES:Astrology,Mars,Opposition,Planetary Transits,Saturn
END:VEVENT
BEGIN:VEVENT
DTSTART;TZID=America/New_York:20270923T070000
DTEND;TZID=America/New_York:20270923T160000
DTSTAMP:20260422T102617
CREATED:20230712T181114Z
LAST-MODIFIED:20230712T181114Z
UID:64803-1821682800-1821715200@tarotbycecelia.com
SUMMARY:Mercury oppose Saturn
DESCRIPTION:Saturn does sometimes have a way of putting a damper on things\, in this case thoughts and communication. Life may not feel like fun and games\, with Saturn bringing serious thought and conversation to the mix. This can definitely kill a good mood\, and you may feel anything other than sociable. Saturn also has a way of teaching you lessons the hard way\, especially if the lesson is one you should have previously learned. This can translate as bad news of some sort\, so if reading this well in advance it would pay to handle your responsibilities in a timely fashion. If Up is Down\, and black is white\, you may be doing a Chicken Little\, proclaiming that the sky is falling. It is important to remember that most of this may just be how you feel at the moment\, and that the energy will pass. Avoid important decisions and paper signing at this time. \nAdditional Dates for Mercury oppose Saturn: \nOctober 21\, 2027 \nNovember 4\, 2027 \n \nShare this:Tweet\n				Email a link to a friend (Opens in new window)\n				Email\n			\n				Share on Reddit (Opens in new window)\n				Reddit\n			\n				Print (Opens in new window)\n				Print\n			Share on TumblrMoreLike this:Like Loading...
URL:https://tarotbycecelia.com/event/mercury-oppose-saturn-10/
CATEGORIES:Astrology,Mercury,Opposition,Planetary Transits,Saturn
END:VEVENT
BEGIN:VEVENT
DTSTART;TZID=America/New_York:20271021T070000
DTEND;TZID=America/New_York:20271021T160000
DTSTAMP:20260422T102617
CREATED:20230712T181341Z
LAST-MODIFIED:20230712T181341Z
UID:64806-1824102000-1824134400@tarotbycecelia.com
SUMMARY:Mercury oppose Saturn
DESCRIPTION:Saturn does sometimes have a way of putting a damper on things\, in this case thoughts and communication. Life may not feel like fun and games\, with Saturn bringing serious thought and conversation to the mix. This can definitely kill a good mood\, and you may feel anything other than sociable. Saturn also has a way of teaching you lessons the hard way\, especially if the lesson is one you should have previously learned. This can translate as bad news of some sort\, so if reading this well in advance it would pay to handle your responsibilities in a timely fashion. If Up is Down\, and black is white\, you may be doing a Chicken Little\, proclaiming that the sky is falling. It is important to remember that most of this may just be how you feel at the moment\, and that the energy will pass. Avoid important decisions and paper signing at this time. \nAdditional Dates for Mercury oppose Saturn: \nNovember 4\, 2027 \n \nShare this:Tweet\n				Email a link to a friend (Opens in new window)\n				Email\n			\n				Share on Reddit (Opens in new window)\n				Reddit\n			\n				Print (Opens in new window)\n				Print\n			Share on TumblrMoreLike this:Like Loading...
URL:https://tarotbycecelia.com/event/mercury-oppose-saturn-11/
CATEGORIES:Astrology,Mercury,Opposition,Planetary Transits,Saturn
END:VEVENT
BEGIN:VEVENT
DTSTART;TZID=America/New_York:20271104T070000
DTEND;TZID=America/New_York:20271104T160000
DTSTAMP:20260422T102617
CREATED:20230712T182051Z
LAST-MODIFIED:20230712T182051Z
UID:64809-1825311600-1825344000@tarotbycecelia.com
SUMMARY:Mercury oppose Saturn
DESCRIPTION:Saturn does sometimes have a way of putting a damper on things\, in this case thoughts and communication. Life may not feel like fun and games\, with Saturn bringing serious thought and conversation to the mix. This can definitely kill a good mood\, and you may feel anything other than sociable. Saturn also has a way of teaching you lessons the hard way\, especially if the lesson is one you should have previously learned. This can translate as bad news of some sort\, so if reading this well in advance it would pay to handle your responsibilities in a timely fashion. If Up is Down\, and black is white\, you may be doing a Chicken Little\, proclaiming that the sky is falling. It is important to remember that most of this may just be how you feel at the moment\, and that the energy will pass. Avoid important decisions and paper signing at this time. \nAdditional Dates for Mercury oppose Saturn: \nNovember 7\, 2028 \n \nShare this:Tweet\n				Email a link to a friend (Opens in new window)\n				Email\n			\n				Share on Reddit (Opens in new window)\n				Reddit\n			\n				Print (Opens in new window)\n				Print\n			Share on TumblrMoreLike this:Like Loading...
URL:https://tarotbycecelia.com/event/mercury-oppose-saturn-12/
CATEGORIES:Astrology,Mercury,Opposition,Planetary Transits,Saturn
END:VEVENT
END:VCALENDAR