BEGIN:VCALENDAR
VERSION:2.0
PRODID:-//Tarot by Cecelia - ECPv6.15.20//NONSGML v1.0//EN
CALSCALE:GREGORIAN
METHOD:PUBLISH
X-WR-CALNAME:Tarot by Cecelia
X-ORIGINAL-URL:https://tarotbycecelia.com
X-WR-CALDESC:Events for Tarot by Cecelia
REFRESH-INTERVAL;VALUE=DURATION:PT1H
X-Robots-Tag:noindex
X-PUBLISHED-TTL:PT1H
BEGIN:VTIMEZONE
TZID:America/New_York
BEGIN:DAYLIGHT
TZOFFSETFROM:-0500
TZOFFSETTO:-0400
TZNAME:EDT
DTSTART:20250309T070000
END:DAYLIGHT
BEGIN:STANDARD
TZOFFSETFROM:-0400
TZOFFSETTO:-0500
TZNAME:EST
DTSTART:20251102T060000
END:STANDARD
BEGIN:DAYLIGHT
TZOFFSETFROM:-0500
TZOFFSETTO:-0400
TZNAME:EDT
DTSTART:20260308T070000
END:DAYLIGHT
BEGIN:STANDARD
TZOFFSETFROM:-0400
TZOFFSETTO:-0500
TZNAME:EST
DTSTART:20261101T060000
END:STANDARD
BEGIN:DAYLIGHT
TZOFFSETFROM:-0500
TZOFFSETTO:-0400
TZNAME:EDT
DTSTART:20270314T070000
END:DAYLIGHT
BEGIN:STANDARD
TZOFFSETFROM:-0400
TZOFFSETTO:-0500
TZNAME:EST
DTSTART:20271107T060000
END:STANDARD
END:VTIMEZONE
BEGIN:VEVENT
DTSTART;TZID=America/New_York:20260318T110900
DTEND;TZID=America/New_York:20260318T110900
DTSTAMP:20260420T125421
CREATED:20260221T215219Z
LAST-MODIFIED:20260221T215219Z
UID:80960-1773832140-1773832140@tarotbycecelia.com
SUMMARY:Venus square Jupiter
DESCRIPTION:You may be wanting to shirk off responsibilities to do any serious work today\, in favor of doing something fun and exciting.  Any social activities are favored at this time\, but if you are prone to any types of excess\, such as food\, alcohol\, drugs\, or gambling\, to name a few\, you may wish to take a buddy to be your conscience and help keep you in line.  It will be very easy to stray today.  In so far as the Venus aspect where money is concerned\, leave your credit and debit cards behind today in order to avoid temptation.  You could feel compelled to spend money on things you really should not. \nAdditional Dates for Venus square Jupiter: \nJanuary 2\, 2027 \nMay 31\, 2027 \nNovember 19\, 2027 \n \nShare this:Tweet\n				Email a link to a friend (Opens in new window)\n				Email\n			\n				Share on Reddit (Opens in new window)\n				Reddit\n			\n				Print (Opens in new window)\n				Print\n			Share on TumblrMoreLike this:Like Loading...
URL:https://tarotbycecelia.com/event/venus-square-jupiter-12/
CATEGORIES:Aries,Astrology,Cancer,Jupiter,Planetary Transits,Square,Venus
END:VEVENT
END:VCALENDAR