BEGIN:VCALENDAR
VERSION:2.0
PRODID:-//Tarot by Cecelia - ECPv6.15.20//NONSGML v1.0//EN
CALSCALE:GREGORIAN
METHOD:PUBLISH
X-WR-CALNAME:Tarot by Cecelia
X-ORIGINAL-URL:https://tarotbycecelia.com
X-WR-CALDESC:Events for Tarot by Cecelia
REFRESH-INTERVAL;VALUE=DURATION:PT1H
X-Robots-Tag:noindex
X-PUBLISHED-TTL:PT1H
BEGIN:VTIMEZONE
TZID:America/New_York
BEGIN:DAYLIGHT
TZOFFSETFROM:-0500
TZOFFSETTO:-0400
TZNAME:EDT
DTSTART:20250309T070000
END:DAYLIGHT
BEGIN:STANDARD
TZOFFSETFROM:-0400
TZOFFSETTO:-0500
TZNAME:EST
DTSTART:20251102T060000
END:STANDARD
BEGIN:DAYLIGHT
TZOFFSETFROM:-0500
TZOFFSETTO:-0400
TZNAME:EDT
DTSTART:20260308T070000
END:DAYLIGHT
BEGIN:STANDARD
TZOFFSETFROM:-0400
TZOFFSETTO:-0500
TZNAME:EST
DTSTART:20261101T060000
END:STANDARD
BEGIN:DAYLIGHT
TZOFFSETFROM:-0500
TZOFFSETTO:-0400
TZNAME:EDT
DTSTART:20270314T070000
END:DAYLIGHT
BEGIN:STANDARD
TZOFFSETFROM:-0400
TZOFFSETTO:-0500
TZNAME:EST
DTSTART:20271107T060000
END:STANDARD
END:VTIMEZONE
BEGIN:VEVENT
DTSTART;TZID=America/New_York:20260425T113200
DTEND;TZID=America/New_York:20260425T113200
DTSTAMP:20260424T152430
CREATED:20260322T195239Z
LAST-MODIFIED:20260322T195239Z
UID:81454-1777116720-1777116720@tarotbycecelia.com
SUMMARY:Sun square Pluto
DESCRIPTION:This is a rather intense transit\, one which can be challenging when it comes to being in control. Authority figures may have the upper hand\, and the outcomes can be influenced by some rather self-destructing behavior\, especially on your part\, if you are not getting the control which you seek. When the Sun is involved in such an aspect\, egos are front and center\, and Pluto is right there exacerbating the conflicts which arise. Working through the issues of control is possible\, but first you must be able to overcome the challenges\, perhaps by relinquishing power. \nAdditional Dates for Sun square Pluto: \nOctober 26\, 2026 \nApril 27\, 2027 \nOctober 28\, 2027 \n \nShare this:Tweet\n				Email a link to a friend (Opens in new window)\n				Email\n			\n				Share on Reddit (Opens in new window)\n				Reddit\n			\n				Print (Opens in new window)\n				Print\n			Share on TumblrMoreLike this:Like Loading...
URL:https://tarotbycecelia.com/event/sun-square-pluto-13/
CATEGORIES:Aquarius,Astrology,Planetary Transits,Pluto,Square,Sun,Taurus
END:VEVENT
END:VCALENDAR