BEGIN:VCALENDAR
VERSION:2.0
PRODID:-//Tarot by Cecelia - ECPv6.15.20//NONSGML v1.0//EN
CALSCALE:GREGORIAN
METHOD:PUBLISH
X-WR-CALNAME:Tarot by Cecelia
X-ORIGINAL-URL:https://tarotbycecelia.com
X-WR-CALDESC:Events for Tarot by Cecelia
REFRESH-INTERVAL;VALUE=DURATION:PT1H
X-Robots-Tag:noindex
X-PUBLISHED-TTL:PT1H
BEGIN:VTIMEZONE
TZID:America/New_York
BEGIN:DAYLIGHT
TZOFFSETFROM:-0500
TZOFFSETTO:-0400
TZNAME:EDT
DTSTART:20250309T070000
END:DAYLIGHT
BEGIN:STANDARD
TZOFFSETFROM:-0400
TZOFFSETTO:-0500
TZNAME:EST
DTSTART:20251102T060000
END:STANDARD
BEGIN:DAYLIGHT
TZOFFSETFROM:-0500
TZOFFSETTO:-0400
TZNAME:EDT
DTSTART:20260308T070000
END:DAYLIGHT
BEGIN:STANDARD
TZOFFSETFROM:-0400
TZOFFSETTO:-0500
TZNAME:EST
DTSTART:20261101T060000
END:STANDARD
BEGIN:DAYLIGHT
TZOFFSETFROM:-0500
TZOFFSETTO:-0400
TZNAME:EDT
DTSTART:20270314T070000
END:DAYLIGHT
BEGIN:STANDARD
TZOFFSETFROM:-0400
TZOFFSETTO:-0500
TZNAME:EST
DTSTART:20271107T060000
END:STANDARD
END:VTIMEZONE
BEGIN:VEVENT
DTSTART;TZID=America/New_York:20260426T133300
DTEND;TZID=America/New_York:20260426T133300
DTSTAMP:20260422T115841
CREATED:20260322T200229Z
LAST-MODIFIED:20260322T200229Z
UID:81462-1777210380-1777210380@tarotbycecelia.com
SUMMARY:Mercury square Jupiter
DESCRIPTION:Although this is a square\, it can be a good aspect\, if used properly.  With Mercury being thought and communication\, and Jupiter bringing a huge dose of optimism to the table\, you can develop a really positive outlook toward your projects.  However\, Jupiter likes to see the big picture and you could run into some trouble if you fail to pay attention to the finer details.  It is also wise not to allow your enthusiasm to cause you to oversell your point\, or to run the risk of becoming braggadocious. \nAdditional Dates for Mercury square Jupiter: \nDecember 4\, 2026 \n \nShare this:Tweet\n				Email a link to a friend (Opens in new window)\n				Email\n			\n				Share on Reddit (Opens in new window)\n				Reddit\n			\n				Print (Opens in new window)\n				Print\n			Share on TumblrMoreLike this:Like Loading...
URL:https://tarotbycecelia.com/event/mercury-square-jupiter-11/
CATEGORIES:Aries,Astrology,Cancer,Jupiter,Mercury,Planetary Transits,Square
END:VEVENT
END:VCALENDAR