BEGIN:VCALENDAR
VERSION:2.0
PRODID:-//Tarot by Cecelia - ECPv6.15.20//NONSGML v1.0//EN
CALSCALE:GREGORIAN
METHOD:PUBLISH
X-WR-CALNAME:Tarot by Cecelia
X-ORIGINAL-URL:https://tarotbycecelia.com
X-WR-CALDESC:Events for Tarot by Cecelia
REFRESH-INTERVAL;VALUE=DURATION:PT1H
X-Robots-Tag:noindex
X-PUBLISHED-TTL:PT1H
BEGIN:VTIMEZONE
TZID:America/New_York
BEGIN:DAYLIGHT
TZOFFSETFROM:-0500
TZOFFSETTO:-0400
TZNAME:EDT
DTSTART:20250309T070000
END:DAYLIGHT
BEGIN:STANDARD
TZOFFSETFROM:-0400
TZOFFSETTO:-0500
TZNAME:EST
DTSTART:20251102T060000
END:STANDARD
BEGIN:DAYLIGHT
TZOFFSETFROM:-0500
TZOFFSETTO:-0400
TZNAME:EDT
DTSTART:20260308T070000
END:DAYLIGHT
BEGIN:STANDARD
TZOFFSETFROM:-0400
TZOFFSETTO:-0500
TZNAME:EST
DTSTART:20261101T060000
END:STANDARD
BEGIN:DAYLIGHT
TZOFFSETFROM:-0500
TZOFFSETTO:-0400
TZNAME:EDT
DTSTART:20270314T070000
END:DAYLIGHT
BEGIN:STANDARD
TZOFFSETFROM:-0400
TZOFFSETTO:-0500
TZNAME:EST
DTSTART:20271107T060000
END:STANDARD
END:VTIMEZONE
BEGIN:VEVENT
DTSTART;TZID=America/New_York:20260504T070000
DTEND;TZID=America/New_York:20260504T160000
DTSTAMP:20260420T144726
CREATED:20230403T175119Z
LAST-MODIFIED:20230403T175119Z
UID:63172-1777878000-1777910400@tarotbycecelia.com
SUMMARY:Mars square Jupiter
DESCRIPTION:This is a very energetic transit\, one which pushes you to expand your horizons. How you go about doing it is what matters when it comes to the results which you can achieve. To come off as overly aggressive\, or abrasive\, might not work as well in your favor. Do your best to come up with a proper plan ahead of time\, and stick with it. You will be given the drive\, passion\, and optimistic outlook to further your cause\, and to initiate and learn new things. A tremendous amount of success can be yours…if you dare. \nAdditional Dates for Mars square Jupiter: \nNovember 15\, 2027 \n \nShare this:Tweet\n				Email a link to a friend (Opens in new window)\n				Email\n			\n				Share on Reddit (Opens in new window)\n				Reddit\n			\n				Print (Opens in new window)\n				Print\n			Share on TumblrMoreLike this:Like Loading...
URL:https://tarotbycecelia.com/event/mars-square-jupiter-7/
CATEGORIES:Astrology,Jupiter,Mars,Planetary Transits,Square
END:VEVENT
END:VCALENDAR