BEGIN:VCALENDAR
VERSION:2.0
PRODID:-//Tarot by Cecelia - ECPv6.15.20//NONSGML v1.0//EN
CALSCALE:GREGORIAN
METHOD:PUBLISH
X-WR-CALNAME:Tarot by Cecelia
X-ORIGINAL-URL:https://tarotbycecelia.com
X-WR-CALDESC:Events for Tarot by Cecelia
REFRESH-INTERVAL;VALUE=DURATION:PT1H
X-Robots-Tag:noindex
X-PUBLISHED-TTL:PT1H
BEGIN:VTIMEZONE
TZID:America/New_York
BEGIN:DAYLIGHT
TZOFFSETFROM:-0500
TZOFFSETTO:-0400
TZNAME:EDT
DTSTART:20250309T070000
END:DAYLIGHT
BEGIN:STANDARD
TZOFFSETFROM:-0400
TZOFFSETTO:-0500
TZNAME:EST
DTSTART:20251102T060000
END:STANDARD
BEGIN:DAYLIGHT
TZOFFSETFROM:-0500
TZOFFSETTO:-0400
TZNAME:EDT
DTSTART:20260308T070000
END:DAYLIGHT
BEGIN:STANDARD
TZOFFSETFROM:-0400
TZOFFSETTO:-0500
TZNAME:EST
DTSTART:20261101T060000
END:STANDARD
BEGIN:DAYLIGHT
TZOFFSETFROM:-0500
TZOFFSETTO:-0400
TZNAME:EDT
DTSTART:20270314T070000
END:DAYLIGHT
BEGIN:STANDARD
TZOFFSETFROM:-0400
TZOFFSETTO:-0500
TZNAME:EST
DTSTART:20271107T060000
END:STANDARD
END:VTIMEZONE
BEGIN:VEVENT
DTSTART;TZID=America/New_York:20260427T094000
DTEND;TZID=America/New_York:20260427T094000
DTSTAMP:20260425T232646
CREATED:20260322T200620Z
LAST-MODIFIED:20260322T200620Z
UID:81466-1777282800-1777282800@tarotbycecelia.com
SUMMARY:Sun sextile North Node
DESCRIPTION:There are times when you require a little help and support along the way\, and this is one of them. What you need you shall have\, in the form of the right people being there to assist in ways which will help you achieve your next move. You can benefit from this transit in difficult situations. This is a good time to create the path you desire\, rising above any issues which you are facing. \n \nShare this:Tweet\n				Email a link to a friend (Opens in new window)\n				Email\n			\n				Share on Reddit (Opens in new window)\n				Reddit\n			\n				Print (Opens in new window)\n				Print\n			Share on TumblrMoreLike this:Like Loading...
URL:https://tarotbycecelia.com/event/sun-sextile-north-node-12/
CATEGORIES:Astrology,North Node,Pisces,Planetary Transits,Sextile,Sun,Taurus
END:VEVENT
BEGIN:VEVENT
DTSTART;TZID=America/New_York:20260514T092400
DTEND;TZID=America/New_York:20260514T092400
DTSTAMP:20260425T232646
CREATED:20251014T153802Z
LAST-MODIFIED:20251014T153802Z
UID:78815-1778750640-1778750640@tarotbycecelia.com
SUMMARY:Sun conjunct Mercury
DESCRIPTION:Also known as a Mercury Cazimi (meaning in the heart of the Sun). Sun conjunct Mercury is the best possible aspect for communications and thinking.  Mentally\, this can be a very busy day for you\, allowing you to clear your desk and maintain the mental focus needed to see projects through to completion.  It is also a good day for running all of those errands you have been putting off\, comprising short trips all over town.  You may find yourself feeling chattier than usual\, but this is because you are able to think clearer.  Keep an ear open for news which could come your way now. \nAdditional Dates for Sun conjunct Mercury: \nJuly 12\, 2026 \nAugust 27\, 2026 \nNovember 4\, 2026 \n \nShare this:Tweet\n				Email a link to a friend (Opens in new window)\n				Email\n			\n				Share on Reddit (Opens in new window)\n				Reddit\n			\n				Print (Opens in new window)\n				Print\n			Share on TumblrMoreLike this:Like Loading...
URL:https://tarotbycecelia.com/event/sun-conjunct-mercury-37/
CATEGORIES:Astrology,Conjunction,Mercury,Planetary Transits,Sun,Taurus
END:VEVENT
BEGIN:VEVENT
DTSTART;TZID=America/New_York:20260625T173800
DTEND;TZID=America/New_York:20260625T173800
DTSTAMP:20260425T232647
CREATED:20251020T163434Z
LAST-MODIFIED:20251020T163434Z
UID:79076-1782409080-1782409080@tarotbycecelia.com
SUMMARY:Sun square Neptune
DESCRIPTION:This is a particularly deceptive transit\, and if you are prone to be overwhelmed by Neptune’s influence\, you will need to guard against those who would seek to deceive you. It is one of those times when it is not advisable to sign anything\, or to enter into agreements of any kind. Under this aspect\, scammers seek to scam\, and others\, even those close to you may attempt to pull the wool over your eyes. \nAdditional Dates for Sun square Neptune: \nDecember 23\, 2026 \n \nShare this:Tweet\n				Email a link to a friend (Opens in new window)\n				Email\n			\n				Share on Reddit (Opens in new window)\n				Reddit\n			\n				Print (Opens in new window)\n				Print\n			Share on TumblrMoreLike this:Like Loading...
URL:https://tarotbycecelia.com/event/sun-square-neptune-12/
CATEGORIES:Aries,Astrology,Cancer,Neptune,Planetary Transits,Square,Sun
END:VEVENT
BEGIN:VEVENT
DTSTART;TZID=America/New_York:20260712T202500
DTEND;TZID=America/New_York:20260712T202500
DTSTAMP:20260425T232647
CREATED:20251014T154104Z
LAST-MODIFIED:20251014T154104Z
UID:78818-1783887900-1783887900@tarotbycecelia.com
SUMMARY:Sun conjunct Mercury
DESCRIPTION:Also known as a Mercury Cazimi (meaning in the heart of the Sun). Sun conjunct Mercury is the best possible aspect for communications and thinking.  Mentally\, this can be a very busy day for you\, allowing you to clear your desk and maintain the mental focus needed to see projects through to completion.  It is also a good day for running all of those errands you have been putting off\, comprising short trips all over town.  You may find yourself feeling chattier than usual\, but this is because you are able to think clearer.  Keep an ear open for news which could come your way now. \nAdditional Dates for Sun conjunct Mercury: \nAugust 27\, 2026 \nNovember 4\, 2026 \n \nShare this:Tweet\n				Email a link to a friend (Opens in new window)\n				Email\n			\n				Share on Reddit (Opens in new window)\n				Reddit\n			\n				Print (Opens in new window)\n				Print\n			Share on TumblrMoreLike this:Like Loading...
URL:https://tarotbycecelia.com/event/sun-conjunct-mercury-38/
CATEGORIES:Astrology,Cancer,Conjunction,Mercury,Planetary Transits,Sun
END:VEVENT
BEGIN:VEVENT
DTSTART;TZID=America/New_York:20260727T023600
DTEND;TZID=America/New_York:20260727T023600
DTSTAMP:20260425T232647
CREATED:20251015T163953Z
LAST-MODIFIED:20251015T163953Z
UID:78860-1785119760-1785119760@tarotbycecelia.com
SUMMARY:Sun trine Neptune
DESCRIPTION:Your hopes and dreams become important to you under this aspect\, with spiritual overtones guiding your every move\, both in creative projects and relationships.  This can be a very social time\, placing emphasis on greater sensitivity to the needs of others.  Those in committed relationships may have important conversations about the future now\, discussing shared hopes and dreams.  Pull out your easel and paints\, revive those craft projects on the shelf\, embrace the creativity which is available to you now. \nAdditional Dates for Sun trine Neptune: \nNovember 23\, 2026 \n \nShare this:Tweet\n				Email a link to a friend (Opens in new window)\n				Email\n			\n				Share on Reddit (Opens in new window)\n				Reddit\n			\n				Print (Opens in new window)\n				Print\n			Share on TumblrMoreLike this:Like Loading...
URL:https://tarotbycecelia.com/event/sun-trine-neptune-13/
CATEGORIES:Aries,Astrology,Leo,Neptune,Planetary Transits,Sun,Trine
END:VEVENT
BEGIN:VEVENT
DTSTART;TZID=America/New_York:20260827T120300
DTEND;TZID=America/New_York:20260827T120300
DTSTAMP:20260425T232647
CREATED:20251014T154410Z
LAST-MODIFIED:20251014T154410Z
UID:78821-1787832180-1787832180@tarotbycecelia.com
SUMMARY:Sun conjunct Mercury
DESCRIPTION:Also known as a Mercury Cazimi (meaning in the heart of the Sun). Sun conjunct Mercury is the best possible aspect for communications and thinking.  Mentally\, this can be a very busy day for you\, allowing you to clear your desk and maintain the mental focus needed to see projects through to completion.  It is also a good day for running all of those errands you have been putting off\, comprising short trips all over town.  You may find yourself feeling chattier than usual\, but this is because you are able to think clearer.  Keep an ear open for news which could come your way now. \nAdditional Dates for Sun conjunct Mercury: \nNovember 4\, 2026 \n \nShare this:Tweet\n				Email a link to a friend (Opens in new window)\n				Email\n			\n				Share on Reddit (Opens in new window)\n				Reddit\n			\n				Print (Opens in new window)\n				Print\n			Share on TumblrMoreLike this:Like Loading...
URL:https://tarotbycecelia.com/event/sun-conjunct-mercury-39/
CATEGORIES:Astrology,Conjunction,Mercury,Planetary Transits,Sun,Virgo
END:VEVENT
BEGIN:VEVENT
DTSTART;TZID=America/New_York:20261104T082400
DTEND;TZID=America/New_York:20261104T082400
DTSTAMP:20260425T232647
CREATED:20251014T155150Z
LAST-MODIFIED:20251014T155150Z
UID:78824-1793780640-1793780640@tarotbycecelia.com
SUMMARY:Sun conjunct Mercury
DESCRIPTION:Also known as a Mercury Cazimi (meaning in the heart of the Sun). Sun conjunct Mercury is the best possible aspect for communications and thinking.  Mentally\, this can be a very busy day for you\, allowing you to clear your desk and maintain the mental focus needed to see projects through to completion.  It is also a good day for running all of those errands you have been putting off\, comprising short trips all over town.  You may find yourself feeling chattier than usual\, but this is because you are able to think clearer.  Keep an ear open for news which could come your way now. \nAdditional Dates for Sun conjunct Mercury: \nJanuary 1\, 2027 \nFebruary 18\, 2027 \nApril 28\, 2027 \nJune 23\, 2027 \nAugust 11\, 2027 \nOctober 19\, 2027 \nDecember 11\, 2027 \n \nShare this:Tweet\n				Email a link to a friend (Opens in new window)\n				Email\n			\n				Share on Reddit (Opens in new window)\n				Reddit\n			\n				Print (Opens in new window)\n				Print\n			Share on TumblrMoreLike this:Like Loading...
URL:https://tarotbycecelia.com/event/sun-conjunct-mercury-40/
CATEGORIES:Astrology,Conjunction,Mercury,Planetary Transits,Scorpio,Sun
END:VEVENT
BEGIN:VEVENT
DTSTART;TZID=America/New_York:20261123T180700
DTEND;TZID=America/New_York:20261123T180700
DTSTAMP:20260425T232647
CREATED:20251015T164746Z
LAST-MODIFIED:20251015T164746Z
UID:78865-1795457220-1795457220@tarotbycecelia.com
SUMMARY:Sun trine Neptune
DESCRIPTION:Your hopes and dreams become important to you under this aspect\, with spiritual overtones guiding your every move\, both in creative projects and relationships.  This can be a very social time\, placing emphasis on greater sensitivity to the needs of others.  Those in committed relationships may have important conversations about the future now\, discussing shared hopes and dreams.  Pull out your easel and paints\, revive those craft projects on the shelf\, embrace the creativity which is available to you now. \nAdditional Dates for Sun trine Neptune: \nJuly 29\, 2027 \nNovember 26\, 2027 \n \nShare this:Tweet\n				Email a link to a friend (Opens in new window)\n				Email\n			\n				Share on Reddit (Opens in new window)\n				Reddit\n			\n				Print (Opens in new window)\n				Print\n			Share on TumblrMoreLike this:Like Loading...
URL:https://tarotbycecelia.com/event/sun-trine-neptune-14/
CATEGORIES:Aries,Astrology,Neptune,Planetary Transits,Sagittarius,Sun,Trine
END:VEVENT
BEGIN:VEVENT
DTSTART;TZID=America/New_York:20261125T112700
DTEND;TZID=America/New_York:20261125T112700
DTSTAMP:20260425T232647
CREATED:20251016T195129Z
LAST-MODIFIED:20251016T195129Z
UID:78914-1795606020-1795606020@tarotbycecelia.com
SUMMARY:Sun sextile Pluto
DESCRIPTION:  \nWhat a powerful transit! These two meeting up have a way of lighting the fire of transformation under you\, and instilling in you the confidence\, power\, and drive to succeed. Pluto is all about death and rebirth\, so this is a great time to shed some old habits\, and put your life in order. If there is a goal which has felt challenging to you\, now is the time to meet it head on\, with success. \nAdditional Dates for Sun sextile Pluto: \nMarch 27\, 2027 \nNovember 27\, 2027 \n \nShare this:Tweet\n				Email a link to a friend (Opens in new window)\n				Email\n			\n				Share on Reddit (Opens in new window)\n				Reddit\n			\n				Print (Opens in new window)\n				Print\n			Share on TumblrMoreLike this:Like Loading...
URL:https://tarotbycecelia.com/event/sun-sextile-pluto-13/
CATEGORIES:Aquarius,Aries,Astrology,Planetary Transits,Pluto,Sagittarius,Sextile,Sun
END:VEVENT
BEGIN:VEVENT
DTSTART;TZID=America/New_York:20261125T164100
DTEND;TZID=America/New_York:20261125T164100
DTSTAMP:20260425T232647
CREATED:20251015T160722Z
LAST-MODIFIED:20251015T160722Z
UID:78853-1795624860-1795624860@tarotbycecelia.com
SUMMARY:Sun oppose Uranus
DESCRIPTION:Expect the unexpected today\, and in the couple of days leading up to this aspect.  It will subside after the fact\, but this is the type of energy you can feel\, in an electrifying kind of way.  You may find you feel extremely nervous\, and Uranus has a way of shaking things up\, and it is always in a way you could not have imagined.  There is no preparedness for this\, other than perhaps to not attempt to do anything important at this time.  Keeping things light may lead to less upsets\, or at least leave you free to handle anything which comes out of the blue.  This is not something bad\, as Uranus has a way to shake you loose from things to which you might be clinging\, in order to get you to make the moves you really need. \nAdditional Dates for Sun oppose Uranus: \nNovember 30\, 2027 \n \nShare this:Tweet\n				Email a link to a friend (Opens in new window)\n				Email\n			\n				Share on Reddit (Opens in new window)\n				Reddit\n			\n				Print (Opens in new window)\n				Print\n			Share on TumblrMoreLike this:Like Loading...
URL:https://tarotbycecelia.com/event/sun-oppose-uranus-7/
CATEGORIES:Astrology,Gemini,Opposition,Planetary Transits,Sagittarius,Sun,Uranus
END:VEVENT
BEGIN:VEVENT
DTSTART;TZID=America/New_York:20261130T000500
DTEND;TZID=America/New_York:20261130T000500
DTSTAMP:20260425T232647
CREATED:20251013T170645Z
LAST-MODIFIED:20251013T170645Z
UID:78738-1795997100-1795997100@tarotbycecelia.com
SUMMARY:Sun trine Saturn
DESCRIPTION:If you have been putting in the work whenever Saturn challenges you to learn a lesson\, then it could very well be time to reap the rewards. Not all Saturn transits are gloomy and depressing\, or stressful even\, and this one could be most enjoyable. The Sun tends to put you in the spotlight\, showing you favor\, and your goals may finally feel as if they are attainable. This is definitely a reap what you sow type of transit\, and you are poised to gain marvelous things\, if you have truly been putting forth the effort. Hopefully this makes all of the hardships you have endured worthwhile\, so as to never repeat them again in this lifetime. You have much to teach others which you have learned through your experiences. \nAdditional Dates for Sun trine Saturn: \nAugust 21\, 2027 \nDecember 13\, 2027 \n \nShare this:Tweet\n				Email a link to a friend (Opens in new window)\n				Email\n			\n				Share on Reddit (Opens in new window)\n				Reddit\n			\n				Print (Opens in new window)\n				Print\n			Share on TumblrMoreLike this:Like Loading...
URL:https://tarotbycecelia.com/event/sun-trine-saturn-13/
CATEGORIES:Aries,Astrology,Planetary Transits,Sagittarius,Saturn,Sun,Trine
END:VEVENT
BEGIN:VEVENT
DTSTART;TZID=America/New_York:20261223T053700
DTEND;TZID=America/New_York:20261223T053700
DTSTAMP:20260425T232647
CREATED:20251020T163958Z
LAST-MODIFIED:20251020T163958Z
UID:79079-1798004220-1798004220@tarotbycecelia.com
SUMMARY:Sun square Neptune
DESCRIPTION:This is a particularly deceptive transit\, and if you are prone to be overwhelmed by Neptune’s influence\, you will need to guard against those who would seek to deceive you. It is one of those times when it is not advisable to sign anything\, or to enter into agreements of any kind. Under this aspect\, scammers seek to scam\, and others\, even those close to you may attempt to pull the wool over your eyes. \nAdditional Dates for Sun square Neptune: \nJune 28\, 2027 \nDecember 25\, 2027 \n \nShare this:Tweet\n				Email a link to a friend (Opens in new window)\n				Email\n			\n				Share on Reddit (Opens in new window)\n				Reddit\n			\n				Print (Opens in new window)\n				Print\n			Share on TumblrMoreLike this:Like Loading...
URL:https://tarotbycecelia.com/event/sun-square-neptune-13/
CATEGORIES:Aries,Astrology,Capricorn,Neptune,Planetary Transits,Square,Sun
END:VEVENT
BEGIN:VEVENT
DTSTART;TZID=America/New_York:20261229T172700
DTEND;TZID=America/New_York:20261229T172700
DTSTAMP:20260425T232647
CREATED:20251020T152824Z
LAST-MODIFIED:20251020T152824Z
UID:79061-1798565220-1798565220@tarotbycecelia.com
SUMMARY:Sun square Saturn
DESCRIPTION:Even though you are probably already aware of them\, looming deadlines could really be stressing you out. Responsibilities can seem to be more than overwhelming\, perhaps even insurmountable. Saturn does love to challenge you\, and the only way around this is straight through the middle\, facing head-on whatever it is which you know needs to be done. Rising to the challenge is not an easy task\, but once the task is achieved\, Saturn will eventually reward you for a job well done. \nAdditional Dates for Sun square Saturn: \nDecember 29\, 2026 \nJuly 20\, 2027 \n \nShare this:Tweet\n				Email a link to a friend (Opens in new window)\n				Email\n			\n				Share on Reddit (Opens in new window)\n				Reddit\n			\n				Print (Opens in new window)\n				Print\n			Share on TumblrMoreLike this:Like Loading...
URL:https://tarotbycecelia.com/event/sun-square-saturn-13/
CATEGORIES:Aries,Astrology,Capricorn,Planetary Transits,Saturn,Square,Sun
END:VEVENT
END:VCALENDAR