BEGIN:VCALENDAR
VERSION:2.0
PRODID:-//Tarot by Cecelia - ECPv6.15.20//NONSGML v1.0//EN
CALSCALE:GREGORIAN
METHOD:PUBLISH
X-ORIGINAL-URL:https://tarotbycecelia.com
X-WR-CALDESC:Events for Tarot by Cecelia
REFRESH-INTERVAL;VALUE=DURATION:PT1H
X-Robots-Tag:noindex
X-PUBLISHED-TTL:PT1H
BEGIN:VTIMEZONE
TZID:America/New_York
BEGIN:DAYLIGHT
TZOFFSETFROM:-0500
TZOFFSETTO:-0400
TZNAME:EDT
DTSTART:20250309T070000
END:DAYLIGHT
BEGIN:STANDARD
TZOFFSETFROM:-0400
TZOFFSETTO:-0500
TZNAME:EST
DTSTART:20251102T060000
END:STANDARD
BEGIN:DAYLIGHT
TZOFFSETFROM:-0500
TZOFFSETTO:-0400
TZNAME:EDT
DTSTART:20260308T070000
END:DAYLIGHT
BEGIN:STANDARD
TZOFFSETFROM:-0400
TZOFFSETTO:-0500
TZNAME:EST
DTSTART:20261101T060000
END:STANDARD
BEGIN:DAYLIGHT
TZOFFSETFROM:-0500
TZOFFSETTO:-0400
TZNAME:EDT
DTSTART:20270314T070000
END:DAYLIGHT
BEGIN:STANDARD
TZOFFSETFROM:-0400
TZOFFSETTO:-0500
TZNAME:EST
DTSTART:20271107T060000
END:STANDARD
END:VTIMEZONE
BEGIN:VEVENT
DTSTART;TZID=America/New_York:20261125T164100
DTEND;TZID=America/New_York:20261125T164100
DTSTAMP:20260425T232745
CREATED:20251015T160722Z
LAST-MODIFIED:20251015T160722Z
UID:78853-1795624860-1795624860@tarotbycecelia.com
SUMMARY:Sun oppose Uranus
DESCRIPTION:Expect the unexpected today\, and in the couple of days leading up to this aspect.  It will subside after the fact\, but this is the type of energy you can feel\, in an electrifying kind of way.  You may find you feel extremely nervous\, and Uranus has a way of shaking things up\, and it is always in a way you could not have imagined.  There is no preparedness for this\, other than perhaps to not attempt to do anything important at this time.  Keeping things light may lead to less upsets\, or at least leave you free to handle anything which comes out of the blue.  This is not something bad\, as Uranus has a way to shake you loose from things to which you might be clinging\, in order to get you to make the moves you really need. \nAdditional Dates for Sun oppose Uranus: \nNovember 30\, 2027 \n \nShare this:Tweet\n				Email a link to a friend (Opens in new window)\n				Email\n			\n				Share on Reddit (Opens in new window)\n				Reddit\n			\n				Print (Opens in new window)\n				Print\n			Share on TumblrMoreLike this:Like Loading...
URL:https://tarotbycecelia.com/event/sun-oppose-uranus-7/
CATEGORIES:Astrology,Gemini,Opposition,Planetary Transits,Sagittarius,Sun,Uranus
END:VEVENT
BEGIN:VEVENT
DTSTART;TZID=America/New_York:20261130T000500
DTEND;TZID=America/New_York:20261130T000500
DTSTAMP:20260425T232745
CREATED:20251013T170645Z
LAST-MODIFIED:20251013T170645Z
UID:78738-1795997100-1795997100@tarotbycecelia.com
SUMMARY:Sun trine Saturn
DESCRIPTION:If you have been putting in the work whenever Saturn challenges you to learn a lesson\, then it could very well be time to reap the rewards. Not all Saturn transits are gloomy and depressing\, or stressful even\, and this one could be most enjoyable. The Sun tends to put you in the spotlight\, showing you favor\, and your goals may finally feel as if they are attainable. This is definitely a reap what you sow type of transit\, and you are poised to gain marvelous things\, if you have truly been putting forth the effort. Hopefully this makes all of the hardships you have endured worthwhile\, so as to never repeat them again in this lifetime. You have much to teach others which you have learned through your experiences. \nAdditional Dates for Sun trine Saturn: \nAugust 21\, 2027 \nDecember 13\, 2027 \n \nShare this:Tweet\n				Email a link to a friend (Opens in new window)\n				Email\n			\n				Share on Reddit (Opens in new window)\n				Reddit\n			\n				Print (Opens in new window)\n				Print\n			Share on TumblrMoreLike this:Like Loading...
URL:https://tarotbycecelia.com/event/sun-trine-saturn-13/
CATEGORIES:Aries,Astrology,Planetary Transits,Sagittarius,Saturn,Sun,Trine
END:VEVENT
BEGIN:VEVENT
DTSTART;TZID=America/New_York:20261223T053700
DTEND;TZID=America/New_York:20261223T053700
DTSTAMP:20260425T232745
CREATED:20251020T163958Z
LAST-MODIFIED:20251020T163958Z
UID:79079-1798004220-1798004220@tarotbycecelia.com
SUMMARY:Sun square Neptune
DESCRIPTION:This is a particularly deceptive transit\, and if you are prone to be overwhelmed by Neptune’s influence\, you will need to guard against those who would seek to deceive you. It is one of those times when it is not advisable to sign anything\, or to enter into agreements of any kind. Under this aspect\, scammers seek to scam\, and others\, even those close to you may attempt to pull the wool over your eyes. \nAdditional Dates for Sun square Neptune: \nJune 28\, 2027 \nDecember 25\, 2027 \n \nShare this:Tweet\n				Email a link to a friend (Opens in new window)\n				Email\n			\n				Share on Reddit (Opens in new window)\n				Reddit\n			\n				Print (Opens in new window)\n				Print\n			Share on TumblrMoreLike this:Like Loading...
URL:https://tarotbycecelia.com/event/sun-square-neptune-13/
CATEGORIES:Aries,Astrology,Capricorn,Neptune,Planetary Transits,Square,Sun
END:VEVENT
BEGIN:VEVENT
DTSTART;TZID=America/New_York:20261229T172700
DTEND;TZID=America/New_York:20261229T172700
DTSTAMP:20260425T232745
CREATED:20251020T152824Z
LAST-MODIFIED:20251020T152824Z
UID:79061-1798565220-1798565220@tarotbycecelia.com
SUMMARY:Sun square Saturn
DESCRIPTION:Even though you are probably already aware of them\, looming deadlines could really be stressing you out. Responsibilities can seem to be more than overwhelming\, perhaps even insurmountable. Saturn does love to challenge you\, and the only way around this is straight through the middle\, facing head-on whatever it is which you know needs to be done. Rising to the challenge is not an easy task\, but once the task is achieved\, Saturn will eventually reward you for a job well done. \nAdditional Dates for Sun square Saturn: \nDecember 29\, 2026 \nJuly 20\, 2027 \n \nShare this:Tweet\n				Email a link to a friend (Opens in new window)\n				Email\n			\n				Share on Reddit (Opens in new window)\n				Reddit\n			\n				Print (Opens in new window)\n				Print\n			Share on TumblrMoreLike this:Like Loading...
URL:https://tarotbycecelia.com/event/sun-square-saturn-13/
CATEGORIES:Aries,Astrology,Capricorn,Planetary Transits,Saturn,Square,Sun
END:VEVENT
END:VCALENDAR