BEGIN:VCALENDAR
VERSION:2.0
PRODID:-//Tarot by Cecelia - ECPv6.15.20//NONSGML v1.0//EN
CALSCALE:GREGORIAN
METHOD:PUBLISH
X-WR-CALNAME:Tarot by Cecelia
X-ORIGINAL-URL:https://tarotbycecelia.com
X-WR-CALDESC:Events for Tarot by Cecelia
REFRESH-INTERVAL;VALUE=DURATION:PT1H
X-Robots-Tag:noindex
X-PUBLISHED-TTL:PT1H
BEGIN:VTIMEZONE
TZID:America/New_York
BEGIN:DAYLIGHT
TZOFFSETFROM:-0500
TZOFFSETTO:-0400
TZNAME:EDT
DTSTART:20250309T070000
END:DAYLIGHT
BEGIN:STANDARD
TZOFFSETFROM:-0400
TZOFFSETTO:-0500
TZNAME:EST
DTSTART:20251102T060000
END:STANDARD
BEGIN:DAYLIGHT
TZOFFSETFROM:-0500
TZOFFSETTO:-0400
TZNAME:EDT
DTSTART:20260308T070000
END:DAYLIGHT
BEGIN:STANDARD
TZOFFSETFROM:-0400
TZOFFSETTO:-0500
TZNAME:EST
DTSTART:20261101T060000
END:STANDARD
BEGIN:DAYLIGHT
TZOFFSETFROM:-0500
TZOFFSETTO:-0400
TZNAME:EDT
DTSTART:20270314T070000
END:DAYLIGHT
BEGIN:STANDARD
TZOFFSETFROM:-0400
TZOFFSETTO:-0500
TZNAME:EST
DTSTART:20271107T060000
END:STANDARD
END:VTIMEZONE
BEGIN:VEVENT
DTSTART;TZID=America/New_York:20260204T162300
DTEND;TZID=America/New_York:20260204T162300
DTSTAMP:20260424T232520
CREATED:20260128T210636Z
LAST-MODIFIED:20260128T210636Z
UID:80606-1770222180-1770222180@tarotbycecelia.com
SUMMARY:Venus sextile Chiron
DESCRIPTION:Venus is very supportive of your self-worth in this aspect\, and healing can come through feeling good about yourself. You will find others feeling the same way about you\, but do not base your own self-worth on their opinions. Allow yourself to be elevated\, and to know you are worth all you seek. \n \nShare this:Tweet\n				Email a link to a friend (Opens in new window)\n				Email\n			\n				Share on Reddit (Opens in new window)\n				Reddit\n			\n				Print (Opens in new window)\n				Print\n			Share on TumblrMoreLike this:Like Loading...
URL:https://tarotbycecelia.com/event/venus-sextile-chiron-12/
CATEGORIES:Aquarius,Aries,Astrology,Chiron,Planetary Transits,Sextile,Venus
END:VEVENT
END:VCALENDAR